Workbook

Sheet PRESUPUESTO
A1: TABLA 15
A3: PROYECTO DE SOLUCION DE SUELOS EXPANSIVOS EN EL EDIFICIO DE AGROPECUARIA
A4: DE LA FACULTAD DE INGENIERIA MECANICA Y CIENCIAS DE LA PRODUCCION DE LA ESPOL
A6: PRESUPUESTO REFERENCIAL DE OBRA CIVIL PROYECTO 1
A8: Clave | B8: Descripción | C8: Unidad | D8: Cantidad | E8: Precio U. | F8: Total
A11: A | B11: OBRAS CIVILES
A12: 1 | B12: PRELIMINARES | F12: =SUM(F13:F17) -> 2878.06
A13: 1.01 | B13: Trazado y Replanteo | C13: M2 | D13: 515 | E13: ='ANALISIS UNITARIOS 1'!I56 -> 3.67 | F13: =D13*E13 -> 1890.05
A14: 1.02 | B14: Guardianía - Seguridad | C14: MES | D14: 1 | E14: ='ANALISIS UNITARIOS 1'!I113 -> 314.6 | F14: =D14*E14 -> 314.6
A15: 1.03 | B15: Caseta oficina, guardián, bodega (estruct. de madera, cubta zinc) 4.0x4.0 | C15: M2 | D15: 16 | E15: ='ANALISIS UNITARIOS 1'!I170 -> 20.43 | F15: =D15*E15 -> 326.88
A16: 1.04 | B16: Bateria sanitaria provisional-Portatil (1 unidad) | C16: MES | D16: 1 | E16: ='ANALISIS UNITARIOS 1'!I227 -> 132 | F16: =D16*E16 -> 132
A17: 1.05 | B17: Limpieza General de Obra | C17: MES | D17: 1 | E17: ='ANALISIS UNITARIOS 1'!I284 -> 214.53 | F17: =D17*E17 -> 214.53
A19: 2 | B19: MOVIMIENTO DE TIERRA, OBRA DE INFRAESTRUCTURA Y ALBANILERIA | F19: =F21+F22+F23+F24+F25+F26+F27+F28+F29+F30+F31+F32 -> 9607.3839
A21: 2.01 | B21: Demolición y desalojo aceras, inc. bordillos. | C21: M2 | D21: 128.54 | E21: ='ANALISIS UNITARIOS 1'!I343 -> 1.57 | F21: =D21*E21 -> 201.8078
A22: 2.02 | B22: Excavación y desalojo para mejoramiento de suelo | C22: M3 | D22: 416 | E22: ='ANALISIS UNITARIOS 1'!I400 -> 3.1 | F22: =D22*E22 -> 1289.6
A23: 2.03 | B23: Cama de cal e=5cm. | C23: M3 | D23: =18.02+1.1565+4.3 -> 23.4765 | E23: ='ANALISIS UNITARIOS 1'!I457 -> 79.2975 | F23: =D23*E23 -> 1861.6278
A24: 2.04 | B24: Relleno compactado al 95% del proctor modif. | C24: M3 | D24: =250+32 -> 282 | E24: ='ANALISIS UNITARIOS 1'!I514 -> 6.26 | F24: =D24*E24 -> 1765.32
A25: 2.05 | B25: Relleno piedra 3/4" en filtro | C25: M3 | D25: 3 | E25: ='ANALISIS UNITARIOS 1'!I571 -> 19.09 | F25: =D25*E25 -> 57.27
A26: 2.06 | B26: Contrapiso de hormigón simple, f'c=210kg/cm2 e=10cm. para aceras Inc.junta de construcción c/2,40 m y aplicación de sellador de junta. | C26: M2 | D26: 238 | E26: ='ANALISIS UNITARIOS 1'!I628 -> 10.27 | F26: =D26*E26 -> 2444.26
A27: 2.07 | B27: Contrapiso: Hormigón pobre bajo vivero | C27: M3 | D27: 16.729 | E27: ='ANALISIS UNITARIOS 1'!I742 -> 44.43 | F27: =D27*E27 -> 743.26947
A28: 2.08 | B28: Cajas recolectoras de A.A.L.L. De Ho. Simple f'c = 180 kg/cm2 (Sin tapa) 60x60x130cm | C28: U | D28: 1 | E28: ='ANALISIS UNITARIOS 1'!I799 -> 150.47 | F28: =D28*E28 -> 150.47
A29: 2.09 | B29: Cajas recolectoras de A.A.L.L. De Ho. Simple f'c = 180 kg/cm2 (Sin tapa) 60x60x115cm | C29: U | D29: 1 | E29: ='ANALISIS UNITARIOS 1'!I856 -> 135.07 | F29: =D29*E29 -> 135.07
A30: 2.1 | B30: Tapas de hormigón armado, c/marco y contramarco, 60x60 cm, incluye instalación | C30: U | D30: 2 | E30: ='ANALISIS UNITARIOS 1'!I912 -> 39.37 | F30: =D30*E30 -> 78.74
A31: 2.11 | B31: Canales Recolectores, juntas c/3m (f'c=180Kg/cm2) | C31: M | D31: 87.21 | E31: ='ANALISIS UNITARIOS 1'!I972 -> 7.22 | F31: =D31*E31 -> 629.6562
A32: 2.12 | B32: Enlucido de Canales Recolectores | C32: M | D32: =D31 -> 87.21 | E32: ='ANALISIS UNITARIOS 1'!I1029 -> 2.87 | F32: =D32*E32 -> 250.2927
A34: 3 | B34: INSTALACIONES A.A.L.L. | F34: =SUM(F35:F38) -> 197.0138
A35: 3.01 | B35: Tuberia PVC 110mm Perforado | C35: M | D35: 20 | E35: ='ANALISIS UNITARIOS 1'!I1088 -> 3.56 | F35: =D35*E35 -> 71.2
A36: 3.02 | B36: Tuberia PVC 110mm | C36: M | D36: 16.43 | E36: ='ANALISIS UNITARIOS 1'!I1145 -> 5.06 | F36: =D36*E36 -> 83.1358
A37: 3.03 | B37: Geotextil Permeable | C37: M2 | D37: 12.9 | E37: ='ANALISIS UNITARIOS 1'!I1202 -> 1.5 | F37: =D37*E37 -> 19.35
A38: 3.04 | B38: Geomembrana Impermeable | C38: M2 | D38: 7.2 | E38: ='ANALISIS UNITARIOS 1'!I1259 -> 3.24 | F38: =D38*E38 -> 23.328
A41: 4 | B41: REPARACIONES DE LA EDIFICACION | F41: =F42+F43+F44+F45+F46 -> 1743.3292
A42: 4.01 | B42: Resanes en Paredes (Inc. Picado) | C42: M | D42: 71.05 | E42: ='ANALISIS UNITARIOS 1'!I1374 -> 1.72 | F42: =D42*E42 -> 122.206
A43: 4.02 | B43: Resanes en Paredes con grapas de 8 mm. cada 15 cm. (Inc. Picado) | C43: M | D43: 22.8 | E43: ='ANALISIS UNITARIOS 1'!I1432 -> 3.9 | F43: =D43*E43 -> 88.92
A44: 4.03 | B44: Reaparaciones de Piso | C44: M2 | D44: 4.77 | E44: ='ANALISIS UNITARIOS 1'!I1490 -> 20.75 | F44: =D44*E44 -> 98.9775
A45: 4.04 | B45: Pintura de Exteriores (Inc. Empastado) | C45: M2 | D45: 259.9 | E45: ='ANALISIS UNITARIOS 1'!I1548 -> 4.143 | F45: =D45*E45 -> 1076.7657
A46: 4.05 | B46: Pintura de Interiores (Inc. Empastado) | C46: M2 | D46: 91.4 | E46: ='ANALISIS UNITARIOS 1'!I1606 -> 3.9 | F46: =D46*E46 -> 356.46
B51: Total Costos Directos | F51: =F12+F19+F34 -> 12682.458
B52: Costos Indirectos ( 15 %) | F52: =F51*0.15 -> 1902.3687
B53: Total Obra Civil | F53: =F51+F52 -> 14584.826
A57: TABLA 17
...

Sheet ANALISIS UNITARIOS 1
B1: TABLA 48
B3: ANALISIS DE PRECIOS UNITARIOS
B4: PROYECTO DE SOLUCION DE SUELOS EXPANSIVOS EN EL EDIFICIO DE AGROPECUARIA
B5: DE LA FACULTAD DE INGENIERIA MECANICA Y CIENCIAS DE LA PRODUCCION DE LA ESPOL
B6: ESPECIFICACIONES:
B7: ITEM: | C7: TRAZADO Y REPLANTEO | H7: UNIDAD: | I7: M2
B9: 1.- EQUIPOS
B10: DESCRIPCION | C10: MARCA | D10: CANT. | E10: EQUIPO/ H | F10: COMBUST/ H | G10: COSTO/H | H10: RENDIMIENTO | I10: COSTO UNT.
B12: TEODOLITO | D12: 1 | G12: =+[1]EQUIPOS!H22 -> 10 | H12: 0.05 | I12: =+ROUND(D12*G12*H12,2) -> 0.5
G13: =+ROUND(D13*E13*F13,2) -> 0 | I13: =+ROUND(G13*H13,2) -> 0
B14: =+[1]EQUIPOS!A$32 -> HERRAMIENTAS MENORES | G14: =+ROUND(D14*E14*F14,2) -> 0 | I14: =ROUND(I44*5%,2) -> 0.02
B15: EQUIPOS SUBTOTAL | I15: =SUM(I12:I14) -> 0.52
B17: 2.- MATERIALES
B18: DESCRIPCION | F18: PRECIO/UNI | G18: UNIDAD | H18: CANTIDAD | I18: COSTO UNIT.
B20: =+[1]MATERIALES!A11 -> MATERIAL MEJORAMIENTO | F20: =+[1]MATERIALES!F11 -> 12 | G20: =+[1]MATERIALES!B11 -> M3 | H20: 0.2 | I20: =ROUND(F20*H20,2) -> 2.4
I21: =ROUND(F21*H21,2) -> 0
I22: =ROUND(F22*H22,2) -> 0
I23: =ROUND(F23*H23,2) -> 0
I24: =ROUND(F24*H24,2) -> 0
I25: =ROUND(F25*H25,2) -> 0
B26: MATERIAL SUBTOTAL | I26: =SUM(I20:I25) -> 2.4
B28: 3.- TRANSPORTE
B29: DESCRIPCION | D29: DISTANCIA(Km) | E29: PESO (Tx) | F29: Tarifa Ton./km. | G29: VOLUMEN | H29: Tarifa MP./K | I29: costo. Unit.
B31: CONSTAN EN LOS PRECIOS DE LOS MATERIALES
B35: TRANSPORTE SUBTOTAL
B37: 4.-MANO DE OBRA
B38: PERSONAL | E38: CANTIDAD | F38: JORNAL REAL | G38: COSTO m.o.(H) | H38: RENDIMIENTO | I38: COSTO UNIT.
B40: =+'[1]MANO DE OBRA'!B$8 -> CAT I PEONES | E40: 2 | F40: =+'[1]MANO DE OBRA'!B$22 -> 1.428286 | G40: =ROUND(E40*F40,2) -> 2.86 | H40: 0.05 | I40: =ROUND(G40*H40,2) -> 0.14
B41: =+'[1]MANO DE OBRA'!C$8 -> CAT II GUARD, MACHET, AYUD ALB | E41: 2 | F41: =+'[1]MANO DE OBRA'!C$22 -> 1.428286 | G41: =ROUND(E41*F41,2) -> 2.86 | H41: =+H40 -> 0.05 | I41: =ROUND(G41*H41,2) -> 0.14
B42: =+'[1]MANO DE OBRA'!D$8 -> CAT III ALB, FIE, CARP, ELEC | E42: 1 | F42: =+'[1]MANO DE OBRA'!D$22 -> 1.428286 | G42: =ROUND(E42*F42,2) -> 1.43 | H42: =+H40 -> 0.05 | I42: =ROUND(G42*H42,2) -> 0.07
B43: =+'[1]MANO DE OBRA'!G$8 -> TOPOGRAFO4 | E43: 1 | F43: =+'[1]MANO DE OBRA'!G$22 -> 1.4428203 | G43: =ROUND(E43*F43,2) -> 1.44 | H43: =+H40 -> 0.05 | I43: =ROUND(G43*H43,2) -> 0.07
B44: COSTO MANO DE OBRA.. | I44: =SUM(I40:I43) -> 0.42
B46: COSTO DIRECTO | I46: =+I44+I26+I15 -> 3.34
B48: 5.- COSTOS INDIRECTOS
B49: DESCRIPCIÓN | H49: % | I49: COSTO UNIT.
F51: DIRECCION TECNICA | H51: =+[1]INDIRECTOS!B$10 -> 0.04 | I51: =ROUND(H51*I46,2) -> 0.13
F52: ADMINISTRACION | H52: =+[1]INDIRECTOS!B$11 -> 0.04 | I52: =ROUND(H52*I46,2) -> 0.13
F53: IMPREVISTO | H53: =+[1]INDIRECTOS!B$12 -> 0.02 | I53: =ROUND(H53*I46,2) -> 0.07
B54: COSTOS INDIRECTOS | I54: =SUM(I51:I53) -> 0.33
B55: SUMAN | I55: =+I46+I54 -> 3.67
...

Sheet ANALISIS UNITARIOS 2
B1: TABLA 74
B3: ANALISIS DE PRECIOS UNITARIOS
B4: PROYECTO DE SOLUCION DE SUELOS EXPANSIVOS EN EL EDIFICIO DE AGROPECUARIA
B5: DE LA FACULTAD DE INGENIERIA MECANICA Y CIENCIAS DE LA PRODUCCION DE LA ESPOL
B6: ESPECIFICACIONES:
B7: ITEM: | C7: TRAZADO Y REPLANTEO | H7: UNIDAD: | I7: M2
B9: 1.- EQUIPOS
B10: DESCRIPCION | C10: MARCA | D10: CANT. | E10: EQUIPO/ H | F10: COMBUST/ H | G10: COSTO/H | H10: RENDIMIENTO | I10: COSTO UNT.
B12: =+[1]EQUIPOS!A22 -> CORTADORA DE HORMIGON/ASFALTO | D12: 1 | G12: =+[1]EQUIPOS!H22 -> 10 | H12: 0.05 | I12: =+ROUND(D12*G12*H12,2) -> 0.5
G13: =+ROUND(D13*E13*F13,2) -> 0 | I13: =+ROUND(G13*H13,2) -> 0
B14: =+[1]EQUIPOS!A$32 -> HERRAMIENTAS MENORES | G14: =+ROUND(D14*E14*F14,2) -> 0 | I14: =ROUND(I44*5%,2) -> 0.02
B15: EQUIPOS SUBTOTAL | I15: =SUM(I12:I14) -> 0.52
B17: 2.- MATERIALES
B18: DESCRIPCION | F18: PRECIO/UNI | G18: UNIDAD | H18: CANTIDAD | I18: COSTO UNIT.
B20: =+[1]MATERIALES!A11 -> MATERIAL MEJORAMIENTO | F20: =+[1]MATERIALES!F11 -> 12 | G20: =+[1]MATERIALES!B11 -> M3 | H20: 0.2 | I20: =ROUND(F20*H20,2) -> 2.4
I21: =ROUND(F21*H21,2) -> 0
I22: =ROUND(F22*H22,2) -> 0
I23: =ROUND(F23*H23,2) -> 0
I24: =ROUND(F24*H24,2) -> 0
I25: =ROUND(F25*H25,2) -> 0
B26: MATERIAL SUBTOTAL | I26: =SUM(I20:I25) -> 2.4
B28: 3.- TRANSPORTE
B29: DESCRIPCION | D29: DISTANCIA(Km) | E29: PESO (Tx) | F29: Tarifa Ton./km. | G29: VOLUMEN | H29: Tarifa MP./K | I29: costo. Unit.
B31: CONSTAN EN LOS PRECIOS DE LOS MATERIALES
B35: TRANSPORTE SUBTOTAL
B37: 4.-MANO DE OBRA
B38: PERSONAL | E38: CANTIDAD | F38: JORNAL REAL | G38: COSTO m.o.(H) | H38: RENDIMIENTO | I38: COSTO UNIT.
B40: =+'[1]MANO DE OBRA'!B$8 -> CAT I PEONES | E40: 2 | F40: =+'[1]MANO DE OBRA'!B$22 -> 1.428286 | G40: =ROUND(E40*F40,2) -> 2.86 | H40: 0.05 | I40: =ROUND(G40*H40,2) -> 0.14
B41: =+'[1]MANO DE OBRA'!C$8 -> CAT II GUARD, MACHET, AYUD ALB | E41: 2 | F41: =+'[1]MANO DE OBRA'!C$22 -> 1.428286 | G41: =ROUND(E41*F41,2) -> 2.86 | H41: =+H40 -> 0.05 | I41: =ROUND(G41*H41,2) -> 0.14
B42: =+'[1]MANO DE OBRA'!D$8 -> CAT III ALB, FIE, CARP, ELEC | E42: 1 | F42: =+'[1]MANO DE OBRA'!D$22 -> 1.428286 | G42: =ROUND(E42*F42,2) -> 1.43 | H42: =+H40 -> 0.05 | I42: =ROUND(G42*H42,2) -> 0.07
B43: =+'[1]MANO DE OBRA'!G$8 -> TOPOGRAFO4 | E43: 1 | F43: =+'[1]MANO DE OBRA'!G$22 -> 1.4428203 | G43: =ROUND(E43*F43,2) -> 1.44 | H43: =+H40 -> 0.05 | I43: =ROUND(G43*H43,2) -> 0.07
B44: COSTO MANO DE OBRA.. | I44: =SUM(I40:I43) -> 0.42
B46: COSTO DIRECTO | I46: =+I44+I26+I15 -> 3.34
B48: 5.- COSTOS INDIRECTOS
B49: DESCRIPCIÓN | H49: % | I49: COSTO UNIT.
F51: DIRECCION TECNICA | H51: =+[1]INDIRECTOS!B$10 -> 0.04 | I51: =ROUND(H51*I46,2) -> 0.13
F52: ADMINISTRACION | H52: =+[1]INDIRECTOS!B$11 -> 0.04 | I52: =ROUND(H52*I46,2) -> 0.13
F53: IMPREVISTO | H53: =+[1]INDIRECTOS!B$12 -> 0.02 | I53: =ROUND(H53*I46,2) -> 0.07
B54: COSTOS INDIRECTOS | I54: =SUM(I51:I53) -> 0.33
B55: SUMAN | I55: =+I46+I54 -> 3.67
...

Sheet CRONOGRAMA
A1: TABLA 16
A3: PROYECTO DE SOLUCION DE SUELOS EXPANSIVOS EN EL EDIFICIO DE AGROPECUARIA
A4: DE LA FACULTAD DE INGENIERIA MECANICA Y CIENCIAS DE LA PRODUCCION DE LA ESPOL
A6: CRONOGRAMA VALORADO PROYECTO 1
A8: Clave | B8: Descripción | C8: Unidad | D8: Cantidad | E8: Precio U. | F8: Total | G8: SEMANA
G9: 1 | H9: 2 | I9: 3 | J9: 4
A11: A | B11: OBRAS CIVILES
A12: 1 | B12: PRELIMINARES | F12: =SUM(F13:F18) -> 2878.06
A13: 1.01 | B13: Trazado y Replanteo | C13: M2 | D13: =PRESUPUESTO!D13 -> 515 | E13: ='ANALISIS UNITARIOS 1'!I56 -> 3.67 | F13: =D13*E13 -> 1890.05 | G13: =+F13 -> 1890.05
A14: 1.02 | B14: Guardianía - Seguridad | C14: MES | D14: 1 | E14: ='ANALISIS UNITARIOS 1'!I113 -> 314.6 | F14: =D14*E14 -> 314.6 | G14: =+$F14/4 -> 78.65 | H14: =+$F14/4 -> 78.65 | I14: =+$F14/4 -> 78.65 | J14: =+$F14/4 -> 78.65
A15: 1.03 | B15: Caseta oficina, guardián, bodega (estruct. de madera, cubta zinc) 4.0x4.0 | C15: M2 | D15: 16 | E15: ='ANALISIS UNITARIOS 1'!I170 -> 20.43 | F15: =D15*E15 -> 326.88 | G15: =+F15 -> 326.88
A16: 1.04 | B16: Bateria sanitaria provisional-Portatil (1 unidad) | C16: MES | D16: 1 | E16: ='ANALISIS UNITARIOS 1'!I227 -> 132 | F16: =D16*E16 -> 132 | G16: =+$F16/4 -> 33 | H16: =+$F16/4 -> 33 | I16: =+$F16/4 -> 33 | J16: =+$F16/4 -> 33
A17: 1.05 | B17: Limpieza General de Obra | C17: MES | D17: 1 | E17: ='ANALISIS UNITARIOS 1'!I284 -> 214.53 | F17: =D17*E17 -> 214.53 | G17: =+$F17/4 -> 53.6325 | H17: =+$F17/4 -> 53.6325 | I17: =+$F17/4 -> 53.6325 | J17: =+$F17/4 -> 53.6325
A19: 2 | B19: MOVIMIENTO DE TIERRA, OBRA DE INFRAESTRUCTURA Y ALBANILERIA | F19: =SUM(F20:F32) -> 9607.3839
A21: 2.01 | B21: Demolición y desalojo aceras, inc. bordillos. | C21: M2 | D21: =PRESUPUESTO!D21 -> 128.54 | E21: ='ANALISIS UNITARIOS 1'!I343 -> 1.57 | F21: =D21*E21 -> 201.8078 | G21: =F21 -> 201.8078
A22: 2.02 | B22: Excavación y desalojo para mejoramiento de suelo | C22: M3 | D22: =PRESUPUESTO!D22 -> 416 | E22: ='ANALISIS UNITARIOS 1'!I400 -> 3.1 | F22: =D22*E22 -> 1289.6 | G22: =$F22/2 -> 644.8 | H22: =$F22/2 -> 644.8
A23: 2.03 | B23: Cama de cal e=5cm. | C23: M3 | D23: =PRESUPUESTO!D23 -> 23.4765 | E23: ='ANALISIS UNITARIOS 1'!I457 -> 79.2975 | F23: =D23*E23 -> 1861.6278 | H23: =$F23/2 -> 930.81388 | I23: =$F23/2 -> 930.81388
A24: 2.04 | B24: Relleno compactado al 95% del proctor modif. | C24: M3 | D24: =PRESUPUESTO!D24 -> 282 | E24: ='ANALISIS UNITARIOS 1'!I514 -> 6.26 | F24: =D24*E24 -> 1765.32 | H24: =$F24/2 -> 882.66 | I24: =$F24/2 -> 882.66
A25: 2.05 | B25: Relleno piedra 3/4" en filtro | C25: M3 | D25: =PRESUPUESTO!D25 -> 3 | E25: ='ANALISIS UNITARIOS 1'!I571 -> 19.09 | F25: =D25*E25 -> 57.27 | H25: =$F25/2 -> 28.635 | I25: =$F25/2 -> 28.635
A26: 2.06 | B26: Contrapiso de hormigón simple, f'c=210kg/cm2 e=10cm. para aceras Inc.junta de construcción c/2,40 m y aplicación de sellador de junta. | C26: M2 | D26: =PRESUPUESTO!D26 -> 238 | E26: ='ANALISIS UNITARIOS 1'!I628 -> 10.27 | F26: =D26*E26 -> 2444.26 | I26: =F26/2 -> 1222.13 | J26: =I26 -> 1222.13
A27: 2.07 | B27: Contrapiso: Hormigón pobre bajo vivero | C27: M3 | D27: =PRESUPUESTO!D27 -> 16.729 | E27: ='ANALISIS UNITARIOS 1'!I742 -> 44.43 | F27: =D27*E27 -> 743.26947 | I27: =$F27 -> 743.26947
A28: 2.08 | B28: Caja recolectoras de A.A.L.L. De Ho. Simple f'c = 180 kg/cm2 (Sin tapa) 60x60x130cm | C28: U | D28: 1 | E28: ='ANALISIS UNITARIOS 1'!I799 -> 150.47 | F28: =D28*E28 -> 150.47 | I28: =$F28 -> 150.47
A29: 2.09 | B29: =PRESUPUESTO!B29 -> Cajas recolectoras de A.A.L.L. De Ho. Simple f'c = 180 kg/cm2 (Sin tapa) 60x60x115cm | C29: U | D29: 1 | E29: =PRESUPUESTO!E29 -> 135.07 | F29: =D29*E29 -> 135.07 | I29: =F29 -> 135.07
A30: 2.1 | B30: =PRESUPUESTO!B30 -> Tapas de hormigón armado, c/marco y contramarco, 60x60 cm, incluye instalación | C30: U | D30: 2 | E30: =PRESUPUESTO!E30 -> 39.37 | F30: =D30*E30 -> 78.74 | I30: =F30 -> 78.74
A31: 2.11 | B31: =PRESUPUESTO!B31 -> Canales Recolectores, juntas c/3m (f'c=180Kg/cm2) | C31: M | D31: =PRESUPUESTO!D31 -> 87.21 | E31: =PRESUPUESTO!E31 -> 7.22 | F31: =D31*E31 -> 629.6562 | J31: =F31 -> 629.6562
A32: 2.12 | B32: Enlucido de Canales Recolectores | C32: M | D32: =D31 -> 87.21 | E32: =PRESUPUESTO!E32 -> 2.87 | F32: =D32*E32 -> 250.2927 | J32: =F32 -> 250.2927
A34: 3 | B34: INSTALACIONES A.A.L.L. | F34: =SUM(F35:F38) -> 197.0138
A35: 3.01 | B35: Tuberia PVC 110mm Perforado | C35: M | D35: =PRESUPUESTO!D35 -> 20 | E35: ='ANALISIS UNITARIOS 1'!I1088 -> 3.56 | F35: =D35*E35 -> 71.2 | G35: =$F35/3 -> 23.733333 | H35: =$F35/3 -> 23.733333 | I35: =$F35/3 -> 23.733333
A36: 3.02 | B36: Tuberia PVC 110mm | C36: M | D36: =PRESUPUESTO!D36 -> 16.43 | E36: ='ANALISIS UNITARIOS 1'!I1145 -> 5.06 | F36: =D36*E36 -> 83.1358 | G36: =$F36/3 -> 27.711933 | H36: =$F36/3 -> 27.711933 | I36: =$F36/3 -> 27.711933
A37: 3.03 | B37: Geotextil Permeable | C37: M2 | D37: =PRESUPUESTO!D37 -> 12.9 | E37: ='ANALISIS UNITARIOS 1'!I1202 -> 1.5 | F37: =D37*E37 -> 19.35 | G37: =$F37/3 -> 6.45 | H37: =$F37/3 -> 6.45 | I37: =$F37/3 -> 6.45
A38: 3.04 | B38: Geomembrana Impermeable | C38: M2 | D38: =PRESUPUESTO!D38 -> 7.2 | E38: ='ANALISIS UNITARIOS 1'!I1259 -> 3.24 | F38: =D38*E38 -> 23.328 | G38: =$F38/3 -> 7.776 | H38: =$F38/3 -> 7.776 | I38: =$F38/3 -> 7.776
A40: 4 | B40: REPARACIONES DE LA EDIFICACION | F40: =F41+F42+F43+F44+F45 -> 1743.3292
A41: 4.01 | B41: Resanes en Paredes (Inc. Picado) | C41: M | D41: 71.05 | E41: ='ANALISIS UNITARIOS 1'!I1373 -> 1.72 | F41: =D41*E41 -> 122.206 | J41: =F41 -> 122.206
A42: 4.02 | B42: Resanes en Paredes con grapas de 8 mm. cada 15 cm. (Inc. Picado) | C42: M | D42: 22.8 | E42: ='ANALISIS UNITARIOS 1'!I1431 -> 3.9 | F42: =D42*E42 -> 88.92 | J42: =F42 -> 88.92
A43: 4.03 | B43: Reaparaciones de Piso | C43: M2 | D43: 4.77 | E43: ='ANALISIS UNITARIOS 1'!I1489 -> 20.75 | F43: =D43*E43 -> 98.9775 | J43: =F43 -> 98.9775
A44: 4.04 | B44: Pintura de Exteriores (Inc. Empastado) | C44: M2 | D44: 259.9 | E44: ='ANALISIS UNITARIOS 1'!I1547 -> 4.143 | F44: =D44*E44 -> 1076.7657 | J44: =F44 -> 1076.7657
A45: 4.05 | B45: Pintura de Interiores (Inc. Empastado) | C45: M2 | D45: 91.4 | E45: ='ANALISIS UNITARIOS 1'!I1605 -> 3.9 | F45: =D45*E45 -> 356.46 | J45: =F45 -> 356.46
G47: =SUM(G12:G46) -> 3294.4916 | H47: =SUM(H12:H46) -> 2717.8626 | I47: =SUM(I12:I46) -> 4402.7421 | J47: =SUM(J12:J46) -> 4010.6906
B51: Total Costos Directos | F51: =F12+F19+F34+F40 -> 14425.787
B52: Costos Indirectos ( 15 %) | F52: =F51*0.15 -> 2163.868
...

Sheet Hoja1
